BEGIN:VCALENDAR
VERSION:2.0
PRODID:SchoolNow
CALSCALE:GREGORIAN
BEGIN:VEVENT
UID:496b3236-733c-11f0-a5c0-0a58a9feac02
DTSTAMP:20250807T032253Z
SUMMARY:School Improvement Meeting
URL;VALUE=URI:https://www.mcdowell.k12.nc.us/mes/calendar/8477955/school-im
 provement-meeting
DTSTART:20251110T201500Z
DTEND:20251110T211500Z
END:VEVENT
END:VCALENDAR
