BEGIN:VCALENDAR
VERSION:2.0
PRODID:SchoolNow
CALSCALE:GREGORIAN
BEGIN:VEVENT
UID:5d5c19cc-733c-11f0-ad87-0a58a9feac02
DTSTAMP:20250807T032351Z
SUMMARY:School Improvement Meeting (Committee Meetings)
URL;VALUE=URI:https://www.mcdowell.k12.nc.us/mes/calendar/8477956/school-im
 provement-meeting-committee-meetings
DTSTART:20251124T201500Z
DTEND:20251124T211500Z
END:VEVENT
END:VCALENDAR
