BEGIN:VCALENDAR
VERSION:2.0
PRODID:SchoolNow
CALSCALE:GREGORIAN
BEGIN:VEVENT
UID:73177a7c-733c-11f0-8641-0e05a2fca2ed
DTSTAMP:20250807T032439Z
SUMMARY:School Improvement Meeting
URL;VALUE=URI:https://www.mcdowell.k12.nc.us/mes/calendar/8477957/school-im
 provement-meeting
DTSTART:20251208T201500Z
DTEND:20251208T211500Z
END:VEVENT
END:VCALENDAR
