BEGIN:VCALENDAR
VERSION:2.0
PRODID:SchoolNow
CALSCALE:GREGORIAN
BEGIN:VEVENT
UID:8c744bbc-733c-11f0-9eeb-0afff137d3ad
DTSTAMP:20250807T031354Z
SUMMARY:School Improvement Meeting
URL;VALUE=URI:https://www.mcdowell.k12.nc.us/mes/calendar/8477958/school-im
 provement-meeting
DTSTART:20260112T081500Z
DTEND:20260112T091500Z
END:VEVENT
END:VCALENDAR
