BEGIN:VCALENDAR
VERSION:2.0
PRODID:SchoolNow
CALSCALE:GREGORIAN
BEGIN:VEVENT
UID:9cd069e6-733c-11f0-8b82-0e05a2fca2ed
DTSTAMP:20250807T032543Z
SUMMARY:School Improvement Meeting (Committee Meetings)
URL;VALUE=URI:https://www.mcdowell.k12.nc.us/mes/calendar/8477959/school-im
 provement-meeting-committee-meetings
DTSTART:20260126T201500Z
DTEND:20260126T211500Z
END:VEVENT
END:VCALENDAR
