BEGIN:VCALENDAR
VERSION:2.0
PRODID:SchoolNow
CALSCALE:GREGORIAN
BEGIN:VEVENT
UID:bac8888e-733c-11f0-94a5-02a999df172f
DTSTAMP:20250807T031511Z
SUMMARY:School Improvement Meeting
URL;VALUE=URI:https://www.mcdowell.k12.nc.us/mes/calendar/8477960/school-im
 provement-meeting
DTSTART:20260209T201500Z
DTEND:20260209T211500Z
END:VEVENT
END:VCALENDAR
