BEGIN:VCALENDAR
VERSION:2.0
PRODID:SchoolNow
CALSCALE:GREGORIAN
BEGIN:VEVENT
UID:cea42aa2-733c-11f0-bfca-0a58a9feac02
DTSTAMP:20250807T031545Z
SUMMARY:School Improvement Meeting (Committee Meetings)
URL;VALUE=URI:https://www.mcdowell.k12.nc.us/mes/calendar/8477961/school-im
 provement-meeting-committee-meetings
DTSTART:20260223T201500Z
DTEND:20260223T211500Z
END:VEVENT
END:VCALENDAR
