BEGIN:VCALENDAR
VERSION:2.0
PRODID:SchoolNow
CALSCALE:GREGORIAN
BEGIN:VEVENT
UID:e0c77c02-733c-11f0-ab38-0a58a9feac02
DTSTAMP:20250807T031615Z
SUMMARY:School Improvement Meeting
URL;VALUE=URI:https://www.mcdowell.k12.nc.us/mes/calendar/8477962/school-im
 provement-meeting
DTSTART:20260309T191500Z
DTEND:20260309T201500Z
END:VEVENT
END:VCALENDAR
