BEGIN:VCALENDAR
VERSION:2.0
PRODID:SchoolNow
CALSCALE:GREGORIAN
BEGIN:VEVENT
UID:eeae320c-733c-11f0-b1bd-0affd7b7bcdb
DTSTAMP:20250807T031638Z
SUMMARY:School Improvement Meeting (Committee Meetings)
URL;VALUE=URI:https://www.mcdowell.k12.nc.us/mes/calendar/8477963/school-im
 provement-meeting-committee-meetings
DTSTART:20260323T191500Z
DTEND:20260323T201500Z
END:VEVENT
END:VCALENDAR
