BEGIN:VCALENDAR
VERSION:2.0
PRODID:SchoolNow
CALSCALE:GREGORIAN
BEGIN:VEVENT
UID:08c964e0-733d-11f0-8437-02a999df172f
DTSTAMP:20250807T031722Z
SUMMARY:School Improvement Meeting
URL;VALUE=URI:https://www.mcdowell.k12.nc.us/mes/calendar/8477964/school-im
 provement-meeting
DTSTART:20260413T191500Z
DTEND:20260413T201500Z
END:VEVENT
END:VCALENDAR
