BEGIN:VCALENDAR
VERSION:2.0
PRODID:SchoolNow
CALSCALE:GREGORIAN
BEGIN:VEVENT
UID:1a3fdd62-733d-11f0-bd03-0a58a9feac02
DTSTAMP:20250807T031751Z
SUMMARY:School Improvement Meeting (Committee Meetings)
URL;VALUE=URI:https://www.mcdowell.k12.nc.us/mes/calendar/8477965/school-im
 provement-meeting-committee-meetings
DTSTART:20260427T191500Z
DTEND:20260427T201500Z
END:VEVENT
END:VCALENDAR
