BEGIN:VCALENDAR
VERSION:2.0
PRODID:SchoolNow
CALSCALE:GREGORIAN
BEGIN:VEVENT
UID:33237f82-733d-11f0-b78e-0a58a9feac02
DTSTAMP:20250807T031833Z
SUMMARY:School Improvement Meeting
URL;VALUE=URI:https://www.mcdowell.k12.nc.us/mes/calendar/8477966/school-im
 provement-meeting
DTSTART:20260511T191500Z
DTEND:20260511T201500Z
END:VEVENT
END:VCALENDAR
