BEGIN:VCALENDAR
VERSION:2.0
PRODID:SchoolNow
CALSCALE:GREGORIAN
BEGIN:VEVENT
UID:49c08cb2-733d-11f0-9a3f-0e9aad81983d
DTSTAMP:20250807T031911Z
SUMMARY:School Improvement Meeting (Committee Meetings)
URL;VALUE=URI:https://www.mcdowell.k12.nc.us/mes/calendar/8477967/school-im
 provement-meeting-committee-meetings
DTSTART:20260526T191500Z
DTEND:20260526T201500Z
END:VEVENT
END:VCALENDAR
