BEGIN:VCALENDAR
VERSION:2.0
PRODID:SchoolNow
CALSCALE:GREGORIAN
BEGIN:VEVENT
UID:9c5aa696-733e-11f0-8aec-0a58a9feac02
DTSTAMP:20250807T032839Z
SUMMARY:Bigfoot Dash 5k Fundraiser
URL;VALUE=URI:https://www.mcdowell.k12.nc.us/mes/calendar/8477968/bigfoot-d
 ash-5k-fundraiser
DTSTART:20250823T120000Z
DTEND:20250823T140000Z
END:VEVENT
END:VCALENDAR
