BEGIN:VCALENDAR
VERSION:2.0
PRODID:SchoolNow
CALSCALE:GREGORIAN
BEGIN:VEVENT
UID:adb0a358-7340-11f0-9ee5-0a58a9feac02
DTSTAMP:20250807T034537Z
SUMMARY:No School - Teacher Workday
URL;VALUE=URI:https://www.mcdowell.k12.nc.us/mes/calendar/8477973/no-school
 -teacher-workday
DTSTART;VALUE=DATE:20251024
DTEND;VALUE=DATE:20251025
END:VEVENT
END:VCALENDAR
