BEGIN:VCALENDAR
VERSION:2.0
PRODID:SchoolNow
CALSCALE:GREGORIAN
BEGIN:VEVENT
UID:3a619956-7341-11f0-afe3-0a58a9feac02
DTSTAMP:20250807T034723Z
SUMMARY:No School - Veterans Day Holiday
URL;VALUE=URI:https://www.mcdowell.k12.nc.us/mes/calendar/8477974/no-school
 -veterans-day-holiday
DTSTART;VALUE=DATE:20251111
DTEND;VALUE=DATE:20251112
END:VEVENT
END:VCALENDAR
