BEGIN:VCALENDAR
VERSION:2.0
PRODID:SchoolNow
CALSCALE:GREGORIAN
BEGIN:VEVENT
UID:9e8b1588-7341-11f0-a05d-0a58a9feac02
DTSTAMP:20250807T035011Z
SUMMARY:No School - Teacher Workday
URL;VALUE=URI:https://www.mcdowell.k12.nc.us/mes/calendar/8477985/no-school
 -teacher-workday
DTSTART;VALUE=DATE:20251126
DTEND;VALUE=DATE:20251127
END:VEVENT
END:VCALENDAR
