BEGIN:VCALENDAR
VERSION:2.0
PRODID:SchoolNow
CALSCALE:GREGORIAN
BEGIN:VEVENT
UID:bcacc4a8-7341-11f0-9f9a-02aca8e1564d
DTSTAMP:20250807T035102Z
SUMMARY:No School - Thanksgiving Holiday
URL;VALUE=URI:https://www.mcdowell.k12.nc.us/mes/calendar/8477986/no-school
 -thanksgiving-holiday
DTSTART;VALUE=DATE:20251127
DTEND;VALUE=DATE:20251129
END:VEVENT
END:VCALENDAR
