BEGIN:VCALENDAR
VERSION:2.0
PRODID:SchoolNow
CALSCALE:GREGORIAN
BEGIN:VEVENT
UID:2e0ee036-7342-11f0-8c2a-026868b05a49
DTSTAMP:20250807T035412Z
SUMMARY:No School - Teacher Workday
URL;VALUE=URI:https://www.mcdowell.k12.nc.us/mes/calendar/8477988/no-school
 -teacher-workday
DTSTART;VALUE=DATE:20260105
DTEND;VALUE=DATE:20260106
END:VEVENT
END:VCALENDAR
