BEGIN:VCALENDAR
VERSION:2.0
PRODID:SchoolNow
CALSCALE:GREGORIAN
BEGIN:VEVENT
UID:5cea0d90-7342-11f0-978a-02aca8e1564d
DTSTAMP:20250807T035531Z
SUMMARY:No School - Martin Luther King Jr Holiday
URL;VALUE=URI:https://www.mcdowell.k12.nc.us/mes/calendar/8477989/no-school
 -martin-luther-king-jr-holiday
DTSTART;VALUE=DATE:20260119
DTEND;VALUE=DATE:20260120
END:VEVENT
END:VCALENDAR
