BEGIN:VCALENDAR
VERSION:2.0
PRODID:SchoolNow
CALSCALE:GREGORIAN
BEGIN:VEVENT
UID:695b1a2e-7342-11f0-a9f0-0e539e40147b
DTSTAMP:20250807T035552Z
SUMMARY:No School - Teacher Workday
URL;VALUE=URI:https://www.mcdowell.k12.nc.us/mes/calendar/8477990/no-school
 -teacher-workday
DTSTART;VALUE=DATE:20260120
DTEND;VALUE=DATE:20260121
END:VEVENT
END:VCALENDAR
