BEGIN:VCALENDAR
VERSION:2.0
PRODID:SchoolNow
CALSCALE:GREGORIAN
BEGIN:VEVENT
UID:97c1d15a-7342-11f0-9b90-026868b05a49
DTSTAMP:20250807T035709Z
SUMMARY:No School - Professional Development
URL;VALUE=URI:https://www.mcdowell.k12.nc.us/mes/calendar/8477991/no-school
 -professional-development
DTSTART;VALUE=DATE:20260213
DTEND;VALUE=DATE:20260214
END:VEVENT
END:VCALENDAR
