BEGIN:VCALENDAR
VERSION:2.0
PRODID:SchoolNow
CALSCALE:GREGORIAN
BEGIN:VEVENT
UID:9816c232-7342-11f0-9b0b-02aca8e1564d
DTSTAMP:20250807T035916Z
SUMMARY:Half Day - Professional Development
URL;VALUE=URI:https://www.mcdowell.k12.nc.us/mes/calendar/8477992/no-school
 -professional-development
DTSTART;VALUE=DATE:20260313
DTEND;VALUE=DATE:20260314
END:VEVENT
END:VCALENDAR
