BEGIN:VCALENDAR
VERSION:2.0
PRODID:SchoolNow
CALSCALE:GREGORIAN
BEGIN:VEVENT
UID:378da650-7343-11f0-a5b6-0a58a9feac02
DTSTAMP:20250807T040138Z
SUMMARY:Half Day - Professional Development
URL;VALUE=URI:https://www.mcdowell.k12.nc.us/mes/calendar/8477994/half-day-
 professional-development
DTSTART;VALUE=DATE:20260508
DTEND;VALUE=DATE:20260509
END:VEVENT
END:VCALENDAR
