BEGIN:VCALENDAR
VERSION:2.0
PRODID:SchoolNow
CALSCALE:GREGORIAN
BEGIN:VEVENT
UID:5611f77a-7343-11f0-be20-02aca8e1564d
DTSTAMP:20250807T040229Z
SUMMARY:No School - Memorial Day Holiday
URL;VALUE=URI:https://www.mcdowell.k12.nc.us/mes/calendar/8477995/no-school
 -memorial-day-holiday
DTSTART;VALUE=DATE:20260525
DTEND;VALUE=DATE:20260526
END:VEVENT
END:VCALENDAR
