BEGIN:VCALENDAR
VERSION:2.0
PRODID:SchoolNow
CALSCALE:GREGORIAN
BEGIN:VEVENT
UID:bd7b939e-7343-11f0-831a-0e539e40147b
DTSTAMP:20250807T040522Z
SUMMARY:Half Day - Last Day of School
URL;VALUE=URI:https://www.mcdowell.k12.nc.us/mes/calendar/8477996/half-day-
 last-day-of-school
DTSTART;VALUE=DATE:20260605
DTEND;VALUE=DATE:20260606
END:VEVENT
END:VCALENDAR
