BEGIN:VCALENDAR
VERSION:2.0
PRODID:SchoolNow
CALSCALE:GREGORIAN
BEGIN:VEVENT
UID:84c26d4c-7344-11f0-95da-02a999df172f
DTSTAMP:20250807T041057Z
SUMMARY:No School - Labor Day Holiday
URL;VALUE=URI:https://www.mcdowell.k12.nc.us/mes/calendar/8477997/no-school
 -labor-day-holiday
DTSTART;VALUE=DATE:20250901
DTEND;VALUE=DATE:20250902
END:VEVENT
END:VCALENDAR
