BEGIN:VCALENDAR
VERSION:2.0
PRODID:SchoolNow
CALSCALE:GREGORIAN
BEGIN:VEVENT
UID:5afc7126-eb51-11f0-97bf-0e037ca681c7
DTSTAMP:20260421T090052Z
SUMMARY:Softball/Baseball Home St. Stephens
URL;VALUE=URI:https://www.mcdowell.k12.nc.us/mhs/calendar/8832060/softball-
 baseball-home-st-stephens
DTSTART;VALUE=DATE:20260320
DTEND;VALUE=DATE:20260321
END:VEVENT
END:VCALENDAR
