BEGIN:VCALENDAR
VERSION:2.0
PRODID:SchoolNow
CALSCALE:GREGORIAN
BEGIN:VEVENT
UID:53b8a2c4-ebea-11f0-8ec2-0a58a9feac02
DTSTAMP:20260421T025542Z
SUMMARY:Golf @ St. Stephens Catawba Springs
URL;VALUE=URI:https://www.mcdowell.k12.nc.us/mhs/calendar/8832324/golf-st-s
 tephens-catawba-springs
DTSTART;VALUE=DATE:20260323
DTEND;VALUE=DATE:20260324
END:VEVENT
END:VCALENDAR
