BEGIN:VCALENDAR
VERSION:2.0
PRODID:SchoolNow
CALSCALE:GREGORIAN
BEGIN:VEVENT
UID:a0569754-3c61-11f1-9017-0a58a9feac02
DTSTAMP:20260420T084043Z
SUMMARY:2nd period staff meeting
URL;VALUE=URI:https://www.mcdowell.k12.nc.us/mhs/calendar/9005685/2nd-perio
 d-staff-meeting
DTSTART:20260420T141500Z
DTEND:20260420T151500Z
END:VEVENT
END:VCALENDAR
