BEGIN:VCALENDAR
VERSION:2.0
PRODID:SchoolNow
CALSCALE:GREGORIAN
BEGIN:VEVENT
UID:a056b8e2-3c61-11f1-9acc-0a58a9feac02
DTSTAMP:20260420T084043Z
SUMMARY:1st period Staff Meeting
URL;VALUE=URI:https://www.mcdowell.k12.nc.us/mhs/calendar/9005686/1st-perio
 d-staff-meeting
DTSTART:20260420T121500Z
DTEND:20260420T131500Z
END:VEVENT
END:VCALENDAR
