BEGIN:VCALENDAR
VERSION:2.0
PRODID:SchoolNow
CALSCALE:GREGORIAN
BEGIN:VEVENT
UID:879d2228-3e5f-11f1-ab60-0a58a9feac02
DTSTAMP:20260422T213046Z
SUMMARY:1st Period Staff Meeting\, all folks with first period planning- ma
 ndatory attendance. Location TBD
URL;VALUE=URI:https://www.mcdowell.k12.nc.us/mhs/calendar/9011192/1st-perio
 d-staff-meeting-all-folks-with-first-period-planning-mandatory-attendance-
 location-tbd
DTSTART:20260422T121500Z
DTEND:20260422T131500Z
ATTACH;FILENAME="Notes - 1st Period Staff Meeting, all folks with first per
 iod planning- mandatory attendance. Location TBD";FMTTYPE=application/octe
 t-stream:https://docs.google.com/document/d/1pNkV9IcZypCrs8hq0ag0YMV2Jjjd9
 y6YC2emMdJtPV8/edit
END:VEVENT
END:VCALENDAR
