BEGIN:VCALENDAR
VERSION:2.0
PRODID:SchoolNow
CALSCALE:GREGORIAN
BEGIN:VEVENT
UID:c014d4b8-1ca1-11ed-9476-02013ad6b03f
DTSTAMP:20220815T135641Z
SUMMARY:Open House/Meet the Teacher
URL;VALUE=URI:https://www.mcdowell.k12.nc.us/nes/calendar/3282177/open-hous
 e-meet-the-teacher
DTSTART:20220826T180000Z
DTEND:20220826T200000Z
ATTACH;FILENAME=Screen Shot 2022-07-14 at 2.50.57 PM.png;FMTTYPE=image/png:
 https://campussuite-storage.s3.amazonaws.com/prod/1559039/252d940a-b7a2-11
 ea-a606-121cb31c8405/2459824/b0b81f20-1ca1-11ed-b0dc-02013ad6b03f/file/Scr
 een Shot 2022-07-14 at 2.50.57 PM.png
END:VEVENT
END:VCALENDAR
