BEGIN:VCALENDAR
VERSION:2.0
PRODID:SchoolNow
CALSCALE:GREGORIAN
BEGIN:VEVENT
UID:19a542ec-256b-11ee-9664-0a58a9feac02
DTSTAMP:20230718T130041Z
SUMMARY:Open House/Meet the Teacher
URL;VALUE=URI:https://www.mcdowell.k12.nc.us/nes/calendar/4500159/open-hous
 e-meet-the-teacher
DTSTART:20230825T190000Z
DTEND:20230825T210000Z
END:VEVENT
END:VCALENDAR
