BEGIN:VCALENDAR
VERSION:2.0
PRODID:SchoolNow
CALSCALE:GREGORIAN
BEGIN:VEVENT
UID:906aec3c-5cce-11f0-b5b7-0a58a9feac02
DTSTAMP:20251217T100012Z
SUMMARY:Moving Up Night 2nd
URL;VALUE=URI:https://www.mcdowell.k12.nc.us/nes/calendar/8399114/moving-up
 -night-2nd
DTSTART:20260427T210000Z
DTEND:20260427T220000Z
END:VEVENT
END:VCALENDAR
