BEGIN:VCALENDAR
VERSION:2.0
PRODID:SchoolNow
CALSCALE:GREGORIAN
BEGIN:VEVENT
UID:47efd7da-50b2-11ee-a8fb-0a58a9feac02
DTSTAMP:20230911T144833Z
SUMMARY:Title I meeting
URL;VALUE=URI:https://www.mcdowell.k12.nc.us/pge/calendar/4715056/title-i-m
 eeting
DTSTART:20230911T144000Z
DTEND:20230911T154000Z
ATTACH;FILENAME=Screenshot 2023-09-11 9.58.27 AM.png;FMTTYPE=image/png:http
 s://campussuite-storage.s3.amazonaws.com/prod/1559039/252d940a-b7a2-11ea-a
 606-121cb31c8405/2657479/32e0a7ca-50b2-11ee-85a4-0a58a9feac02/file/Screens
 hot 2023-09-11 9.58.27 AM.png
ATTACH;FILENAME=Screenshot 2023-09-11 9.58.41 AM.png;FMTTYPE=image/png:http
 s://campussuite-storage.s3.amazonaws.com/prod/1559039/252d940a-b7a2-11ea-a
 606-121cb31c8405/2657478/268deb4a-50b2-11ee-94c1-0a58a9feac02/file/Screens
 hot 2023-09-11 9.58.41 AM.png
END:VEVENT
END:VCALENDAR
