BEGIN:VCALENDAR
VERSION:2.0
PRODID:SchoolNow
CALSCALE:GREGORIAN
BEGIN:VEVENT
UID:7ba07232-274a-11ef-a001-025c890da5e1
DTSTAMP:20240610T165712Z
SUMMARY:Teacher Workday
URL;VALUE=URI:https://www.mcdowell.k12.nc.us/summit-academy/calendar/610338
 6/teacher-workday
DTSTART;VALUE=DATE:20240822
DTEND;VALUE=DATE:20240823
END:VEVENT
END:VCALENDAR
