BEGIN:VCALENDAR
VERSION:2.0
PRODID:SchoolNow
CALSCALE:GREGORIAN
BEGIN:VEVENT
UID:7ba0fb26-274a-11ef-bacc-025c890da5e1
DTSTAMP:20240610T165712Z
SUMMARY:First Day - Traditional Calendar
URL;VALUE=URI:https://www.mcdowell.k12.nc.us/summit-academy/calendar/610338
 8/first-day-traditional-calendar
DTSTART;VALUE=DATE:20240826
DTEND;VALUE=DATE:20240827
END:VEVENT
END:VCALENDAR
