BEGIN:VCALENDAR
VERSION:2.0
PRODID:SchoolNow
CALSCALE:GREGORIAN
BEGIN:VEVENT
UID:403cc49a-7157-11f0-ac30-0a58a9feac02
DTSTAMP:20250818T142213Z
SUMMARY:Summit Academy Open House
URL;VALUE=URI:https://www.mcdowell.k12.nc.us/summit-academy/calendar/846976
 3/summit-academy-open-house
DTSTART:20250821T200000Z
DTEND:20250821T220000Z
END:VEVENT
END:VCALENDAR
