BEGIN:VCALENDAR
VERSION:2.0
PRODID:SchoolNow
CALSCALE:GREGORIAN
BEGIN:VEVENT
UID:9e657bba-8044-11f0-a23d-0a58a9feac02
DTSTAMP:20250823T171425Z
SUMMARY:First Day of School
URL;VALUE=URI:https://www.mcdowell.k12.nc.us/summit-academy/calendar/853614
 7/first-day-of-school
DTSTART;VALUE=DATE:20250825
DTEND;VALUE=DATE:20250826
END:VEVENT
END:VCALENDAR
