BEGIN:VCALENDAR
VERSION:2.0
PRODID:SchoolNow
CALSCALE:GREGORIAN
BEGIN:VEVENT
UID:57d35954-899c-11f0-832d-0a58a9feac02
DTSTAMP:20250904T143502Z
SUMMARY:Summit Parent Night
URL;VALUE=URI:https://www.mcdowell.k12.nc.us/summit-academy/calendar/857846
 9/summit-parent-night
DTSTART:20250923T210000Z
DTEND:20250923T220000Z
END:VEVENT
END:VCALENDAR
