BEGIN:VCALENDAR
VERSION:2.0
PRODID:SchoolNow
CALSCALE:GREGORIAN
BEGIN:VEVENT
UID:ff396c12-3a74-11ed-b253-0a21c6cadd19
DTSTAMP:20220922T124929Z
SUMMARY:Book Fair
URL;VALUE=URI:https://www.mcdowell.k12.nc.us/wme/calendar/3428303/book-fair
DTSTART;VALUE=DATE:20220923
DTEND;VALUE=DATE:20221001
END:VEVENT
END:VCALENDAR
