BEGIN:VCALENDAR
VERSION:2.0
PRODID:SchoolNow
CALSCALE:GREGORIAN
BEGIN:VEVENT
UID:4f7d30b4-3a75-11ed-8281-0a21c6cadd19
DTSTAMP:20220922T130255Z
SUMMARY:Pelican's Spirit Night
URL;VALUE=URI:https://www.mcdowell.k12.nc.us/wme/calendar/3428304/pelicans-
 spirit-night
DTSTART:20220927T190000Z
DTEND:20220928T000000Z
END:VEVENT
END:VCALENDAR
