BEGIN:VCALENDAR
VERSION:2.0
PRODID:SchoolNow
CALSCALE:GREGORIAN
BEGIN:VEVENT
UID:70a815be-3a76-11ed-b750-0e4e60f97ffd
DTSTAMP:20220922T130300Z
SUMMARY:Literacy Night
URL;VALUE=URI:https://www.mcdowell.k12.nc.us/wme/calendar/3428305/literacy-
 night
DTSTART:20220929T093000Z
DTEND:20220929T103000Z
END:VEVENT
END:VCALENDAR
