BEGIN:VCALENDAR
VERSION:2.0
PRODID:SchoolNow
CALSCALE:GREGORIAN
BEGIN:VEVENT
UID:970d5232-3a76-11ed-84f4-0e4e60f97ffd
DTSTAMP:20220922T130307Z
SUMMARY:3rd Grade Field Trip to Tuttle State Park
URL;VALUE=URI:https://www.mcdowell.k12.nc.us/wme/calendar/3428306/3rd-grade
 -field-trip-to-tuttle-state-park
DTSTART;VALUE=DATE:20220930
DTEND;VALUE=DATE:20221001
END:VEVENT
END:VCALENDAR
