BEGIN:VCALENDAR
VERSION:2.0
PRODID:SchoolNow
CALSCALE:GREGORIAN
BEGIN:VEVENT
UID:9437cce2-3a79-11ed-9b11-0e4e60f97ffd
DTSTAMP:20220922T132217Z
SUMMARY:Pelican's Spirit Night
URL;VALUE=URI:https://www.mcdowell.k12.nc.us/wme/calendar/3428307/pelicans-
 spirit-night
DTSTART:20221006T190000Z
DTEND:20221007T000000Z
END:VEVENT
END:VCALENDAR
