BEGIN:VCALENDAR
VERSION:2.0
PRODID:SchoolNow
CALSCALE:GREGORIAN
BEGIN:VEVENT
UID:ad62820c-3a79-11ed-bc70-0e4e60f97ffd
DTSTAMP:20220922T132259Z
SUMMARY:National School Lunch Week
URL;VALUE=URI:https://www.mcdowell.k12.nc.us/wme/calendar/3428308/national-
 school-lunch-week
DTSTART;VALUE=DATE:20221010
DTEND;VALUE=DATE:20221015
END:VEVENT
END:VCALENDAR
