BEGIN:VCALENDAR
VERSION:2.0
PRODID:SchoolNow
CALSCALE:GREGORIAN
BEGIN:VEVENT
UID:68e74858-3a7c-11ed-942c-025ee6134ecd
DTSTAMP:20220922T134232Z
SUMMARY:Domino's Spirit Night
URL;VALUE=URI:https://www.mcdowell.k12.nc.us/wme/calendar/3428334/dominos-s
 pirit-night
DTSTART;VALUE=DATE:20221011
DTEND;VALUE=DATE:20221012
END:VEVENT
END:VCALENDAR
