BEGIN:VCALENDAR
VERSION:2.0
PRODID:SchoolNow
CALSCALE:GREGORIAN
BEGIN:VEVENT
UID:7962a024-3a7c-11ed-a44c-025ee6134ecd
DTSTAMP:20220922T134300Z
SUMMARY:National m&m Day
URL;VALUE=URI:https://www.mcdowell.k12.nc.us/wme/calendar/3428335/national-
 m-m-day
DTSTART;VALUE=DATE:20221013
DTEND;VALUE=DATE:20221014
END:VEVENT
END:VCALENDAR
