BEGIN:VCALENDAR
VERSION:2.0
PRODID:SchoolNow
CALSCALE:GREGORIAN
BEGIN:VEVENT
UID:8587b272-3a7c-11ed-967b-025ee6134ecd
DTSTAMP:20220922T134320Z
SUMMARY:Red Ribbon Week
URL;VALUE=URI:https://www.mcdowell.k12.nc.us/wme/calendar/3428336/red-ribbo
 n-week
DTSTART;VALUE=DATE:20221017
DTEND;VALUE=DATE:20221022
END:VEVENT
END:VCALENDAR
